BEGIN:VCALENDAR
VERSION:2.0
PRODID:-//EC Thüringen - ECPv6.15.14//NONSGML v1.0//EN
CALSCALE:GREGORIAN
METHOD:PUBLISH
X-ORIGINAL-URL:https://www.ec-thueringen.de
X-WR-CALDESC:Veranstaltungen für EC Thüringen
REFRESH-INTERVAL;VALUE=DURATION:PT1H
X-Robots-Tag:noindex
X-PUBLISHED-TTL:PT1H
BEGIN:VTIMEZONE
TZID:Europe/Berlin
BEGIN:DAYLIGHT
TZOFFSETFROM:+0100
TZOFFSETTO:+0200
TZNAME:CEST
DTSTART:20250330T010000
END:DAYLIGHT
BEGIN:STANDARD
TZOFFSETFROM:+0200
TZOFFSETTO:+0100
TZNAME:CET
DTSTART:20251026T010000
END:STANDARD
BEGIN:DAYLIGHT
TZOFFSETFROM:+0100
TZOFFSETTO:+0200
TZNAME:CEST
DTSTART:20260329T010000
END:DAYLIGHT
BEGIN:STANDARD
TZOFFSETFROM:+0200
TZOFFSETTO:+0100
TZNAME:CET
DTSTART:20261025T010000
END:STANDARD
BEGIN:DAYLIGHT
TZOFFSETFROM:+0100
TZOFFSETTO:+0200
TZNAME:CEST
DTSTART:20270328T010000
END:DAYLIGHT
BEGIN:STANDARD
TZOFFSETFROM:+0200
TZOFFSETTO:+0100
TZNAME:CET
DTSTART:20271031T010000
END:STANDARD
END:VTIMEZONE
BEGIN:VEVENT
DTSTART;VALUE=DATE:20260719
DTEND;VALUE=DATE:20260727
DTSTAMP:20260423T113240
CREATED:20251126T213502Z
LAST-MODIFIED:20251126T213502Z
UID:9645-1784419200-1785110399@www.ec-thueringen.de
SUMMARY:Segelfreizeit
DESCRIPTION:Ein Skipper und wir sind die Mannschaft. Das heißt\, nach dem Frühstück alle an Deck\, Segel hissen\, Seile festmachen\, eine Halse\, eine Wende. Je nach Wind ist immer mal etwas zu tun. Abends im Hafen dann Segel runter und verpacken. So segeln wir von Hafen zu Hafen über das Ijsselmeer (Niederlande). Dazwischen ist Zeit zum Chillen\, Reden\, Singen\, Spielen und für biblische Themen. Wenn wir Hunger haben\, wird gemeinsam gekocht. Insgesamt sind wir mit zwei Schiffen zusammen mit dem Kirchenkreis Bad Salzungen unterwegs. \nLeitung: Markus Steffen\, Cedric Dörr\, Jana Bersin \nLeistung: Mehrbettkoje auf dem Schiff\, Busfahrt ab Bad Salzungen \nAlter: ab 14 J. \nInfos und Anmeldung: Jugendflotte 2026 \nSchick das ausgefüllte Anmelde- und Stornoformular bis 31. Dezember 2025 per Mail an: jana.bersin@ekmd.de. Du bekommst bis zum 29. Januar 2026 eine Rückmeldung\, ob du Teil der Jugendflotte bist. \nMindestteilnehmerzahl: 20 bis 10.01.2026 \n 
URL:https://www.ec-thueringen.de/event/segelfreizeit/
CATEGORIES:Freizeiten,Jugendfreizeiten
ATTACH;FMTTYPE=image/jpeg:https://www.ec-thueringen.de/wp-content/uploads/2025/11/ian-keefe-nGOK_EqQpY4-unsplash-scaled-e1764192835913.jpg
END:VEVENT
END:VCALENDAR