BEGIN:VCALENDAR
VERSION:2.0
PRODID:-//EC Thüringen - ECPv6.15.14//NONSGML v1.0//EN
CALSCALE:GREGORIAN
METHOD:PUBLISH
X-ORIGINAL-URL:https://www.ec-thueringen.de
X-WR-CALDESC:Veranstaltungen für EC Thüringen
REFRESH-INTERVAL;VALUE=DURATION:PT1H
X-Robots-Tag:noindex
X-PUBLISHED-TTL:PT1H
BEGIN:VTIMEZONE
TZID:Europe/Berlin
BEGIN:DAYLIGHT
TZOFFSETFROM:+0100
TZOFFSETTO:+0200
TZNAME:CEST
DTSTART:20250330T010000
END:DAYLIGHT
BEGIN:STANDARD
TZOFFSETFROM:+0200
TZOFFSETTO:+0100
TZNAME:CET
DTSTART:20251026T010000
END:STANDARD
BEGIN:DAYLIGHT
TZOFFSETFROM:+0100
TZOFFSETTO:+0200
TZNAME:CEST
DTSTART:20260329T010000
END:DAYLIGHT
BEGIN:STANDARD
TZOFFSETFROM:+0200
TZOFFSETTO:+0100
TZNAME:CET
DTSTART:20261025T010000
END:STANDARD
BEGIN:DAYLIGHT
TZOFFSETFROM:+0100
TZOFFSETTO:+0200
TZNAME:CEST
DTSTART:20270328T010000
END:DAYLIGHT
BEGIN:STANDARD
TZOFFSETFROM:+0200
TZOFFSETTO:+0100
TZNAME:CET
DTSTART:20271031T010000
END:STANDARD
END:VTIMEZONE
BEGIN:VEVENT
DTSTART;TZID=Europe/Berlin:20261120T180000
DTEND;TZID=Europe/Berlin:20261122T130000
DTSTAMP:20260423T133542
CREATED:20251126T221300Z
LAST-MODIFIED:20251126T221300Z
UID:9661-1795197600-1795352400@www.ec-thueringen.de
SUMMARY:Deep Dive
DESCRIPTION:Austausch\, Tiefgang\, Themen\, die dich persönlich und deine Jugendarbeit weiterbringen\, viel Gemeinschaft\, Musik und gemeinsame Aktionen erwarten dich. Wir freuen uns auf Gemeinschaft mit dir. \nLeistungen: VP\, Unterbringung in Mehrbettzimmern \nAlter: 14-35 J. \nLeitung: Lily Schilling\, ec@ec-thueringen.de \nHier kannst du dich anmelden.
URL:https://www.ec-thueringen.de/event/deep-dive-3/
LOCATION:Bibelheim Neustadt am Rennsteig\, Rennsteigstraße 58\, Großbreitenbach\, Thüringen\, 98701\, Germany
CATEGORIES:Mitarbeiterseminare,Seminare
END:VEVENT
END:VCALENDAR