BEGIN:VCALENDAR
VERSION:2.0
PRODID:-//EC Thüringen - ECPv6.15.14//NONSGML v1.0//EN
CALSCALE:GREGORIAN
METHOD:PUBLISH
X-WR-CALNAME:EC Thüringen
X-ORIGINAL-URL:https://www.ec-thueringen.de
X-WR-CALDESC:Veranstaltungen für EC Thüringen
REFRESH-INTERVAL;VALUE=DURATION:PT1H
X-Robots-Tag:noindex
X-PUBLISHED-TTL:PT1H
BEGIN:VTIMEZONE
TZID:Europe/Berlin
BEGIN:DAYLIGHT
TZOFFSETFROM:+0100
TZOFFSETTO:+0200
TZNAME:CEST
DTSTART:20240331T010000
END:DAYLIGHT
BEGIN:STANDARD
TZOFFSETFROM:+0200
TZOFFSETTO:+0100
TZNAME:CET
DTSTART:20241027T010000
END:STANDARD
BEGIN:DAYLIGHT
TZOFFSETFROM:+0100
TZOFFSETTO:+0200
TZNAME:CEST
DTSTART:20250330T010000
END:DAYLIGHT
BEGIN:STANDARD
TZOFFSETFROM:+0200
TZOFFSETTO:+0100
TZNAME:CET
DTSTART:20251026T010000
END:STANDARD
BEGIN:DAYLIGHT
TZOFFSETFROM:+0100
TZOFFSETTO:+0200
TZNAME:CEST
DTSTART:20260329T010000
END:DAYLIGHT
BEGIN:STANDARD
TZOFFSETFROM:+0200
TZOFFSETTO:+0100
TZNAME:CET
DTSTART:20261025T010000
END:STANDARD
END:VTIMEZONE
BEGIN:VEVENT
DTSTART;VALUE=DATE:20250606
DTEND;VALUE=DATE:20250610
DTSTAMP:20260423T194721
CREATED:20241011T235420Z
LAST-MODIFIED:20250411T183503Z
UID:9067-1749168000-1749513599@www.ec-thueringen.de
SUMMARY:Young Hope
DESCRIPTION:Gemeinschaft\, Camping\, Feuer\, Musik\, gute Gespräche\, Natur\, gemeinsame Spiele und einfach viel Spaß… darauf hast du auch mal wieder Bock?\nDann pack deine Sachen und komm nach Hoheneiche. Hier kannst du entweder in einem ausgebauten Bauwagen schlafen oder zelten. Gott ist in unserer Mitte und coole Menschen um uns herum… jetzt fehlst nur noch du… \nWer: Jugendliche ab 14 Jahren\nLeistung: VP\, Bauwagencamp oder eigene Zelte\nLeitung: Lily Schilling und Team \nHier geht es zur Anmeldung
URL:https://www.ec-thueringen.de/event/young-hope-2/
LOCATION:CVJM Camp Hoheneiche\, Hoheneiche 1a\, Saalfeld/Saale OT Hoheneiche\, Thüringen\, 07318\, Germany
CATEGORIES:Freizeiten,Jugendfreizeiten
ATTACH;FMTTYPE=image/jpeg:https://www.ec-thueringen.de/wp-content/uploads/2024/10/tegan-mierle-fDostElVhN8-unsplash-e1744396380296.jpg
END:VEVENT
BEGIN:VEVENT
DTSTART;VALUE=DATE:20250630
DTEND;VALUE=DATE:20250710
DTSTAMP:20260423T194721
CREATED:20241012T000514Z
LAST-MODIFIED:20250203T083227Z
UID:9071-1751241600-1752105599@www.ec-thueringen.de
SUMMARY:Teeniefreizeit
DESCRIPTION:Was gibt es Schöneres als die Sommerferien gemeinsam mit deinen Freunden\, an einem wunderschönen Ort zu beginnen? Seen\, das Meer\, schöne Städte\, beeindruckende Natur\, in Polen alles zusammen. Einfach chillen\, Gott begegnen und eine Menge Neues erleben.\nDu hast Bock? Mega… wir nämlich auch… \nWer: Teens 13-19 Jahre\, bis 26.04.2025 mind. 15 Teiln.\nLeistungen: Vollverpflegung\, Unterbringung in Mehrbettzimmern\, Programm\, An- und Abreise in Kleinbussen\nLeitung & Infos: Annemarie Klemm\, Lily Schilling & Team \nFrühbucherpreis bis 31.01.2025: 250€ (ab 01.02.2025: 300€) \nHier geht es zur Anmeldung
URL:https://www.ec-thueringen.de/event/teeniefreizeit/
LOCATION:Klodno (Polen)\, Poland
CATEGORIES:Freizeiten,Jugendfreizeiten
ATTACH;FMTTYPE=image/png:https://www.ec-thueringen.de/wp-content/uploads/2024/10/Screenshot-2024-10-12-at-01-59-44-EC-Freizeitplan-2025-Digital.pdf-e1738083447706.png
END:VEVENT
END:VCALENDAR