BEGIN:VCALENDAR
VERSION:2.0
PRODID:-//EC Thüringen - ECPv6.15.14//NONSGML v1.0//EN
CALSCALE:GREGORIAN
METHOD:PUBLISH
X-WR-CALNAME:EC Thüringen
X-ORIGINAL-URL:https://www.ec-thueringen.de
X-WR-CALDESC:Veranstaltungen für EC Thüringen
REFRESH-INTERVAL;VALUE=DURATION:PT1H
X-Robots-Tag:noindex
X-PUBLISHED-TTL:PT1H
BEGIN:VTIMEZONE
TZID:Europe/Berlin
BEGIN:DAYLIGHT
TZOFFSETFROM:+0100
TZOFFSETTO:+0200
TZNAME:CEST
DTSTART:20240331T010000
END:DAYLIGHT
BEGIN:STANDARD
TZOFFSETFROM:+0200
TZOFFSETTO:+0100
TZNAME:CET
DTSTART:20241027T010000
END:STANDARD
BEGIN:DAYLIGHT
TZOFFSETFROM:+0100
TZOFFSETTO:+0200
TZNAME:CEST
DTSTART:20250330T010000
END:DAYLIGHT
BEGIN:STANDARD
TZOFFSETFROM:+0200
TZOFFSETTO:+0100
TZNAME:CET
DTSTART:20251026T010000
END:STANDARD
BEGIN:DAYLIGHT
TZOFFSETFROM:+0100
TZOFFSETTO:+0200
TZNAME:CEST
DTSTART:20260329T010000
END:DAYLIGHT
BEGIN:STANDARD
TZOFFSETFROM:+0200
TZOFFSETTO:+0100
TZNAME:CET
DTSTART:20261025T010000
END:STANDARD
END:VTIMEZONE
BEGIN:VEVENT
DTSTART;TZID=Europe/Berlin:20250509T150000
DTEND;TZID=Europe/Berlin:20250511T150000
DTSTAMP:20260423T210746
CREATED:20241017T183912Z
LAST-MODIFIED:20241120T200114Z
UID:9304-1746802800-1746975600@www.ec-thueringen.de
SUMMARY:Pfadfinder Ü18-(Quer)Einsteigerschulung
DESCRIPTION:Der (Quer-)Einsteigerkurs richtet sich an Interessierte und (Quer-)Einsteiger\, die von Grund auf lernen möchten\, was die Pfadfinder tun und warum sie es wie tun und was dem PEC wichtig ist. Du kannst alle deine Fragen stellen und selbst erleben\, was es bedeutet\, ein Pfadfinder zu sein und wie z.B. eine Sippenstunde aufgebaut ist. Neben grundlegenden pfadfinderischen Fertigkeiten erhältst du auch wichtige Grundlagen zum Aufbau einer Pfadfinderarbeit. \nAnmeldung: bis zum 25.04.2025 – https://www.ec.de/ue18-schulung-2024/
URL:https://www.ec-thueringen.de/event/pfadfinder-ue18-quereinsteigerschulung/
LOCATION:„Zentrum Pfadfinden“ Immenhausen\, Immenhausen\, Hessen\, Germany
CATEGORIES:Mitarbeiterseminare,Seminare
ATTACH;FMTTYPE=image/jpeg:https://www.ec-thueringen.de/wp-content/uploads/2024/10/IMG_0388.jpg.pagespeed.ce_.Uj03t5vE8a-scaled-e1729190198191.jpg
END:VEVENT
END:VCALENDAR