BEGIN:VCALENDAR
VERSION:2.0
PRODID:-//EC Thüringen - ECPv6.15.14//NONSGML v1.0//EN
CALSCALE:GREGORIAN
METHOD:PUBLISH
X-WR-CALNAME:EC Thüringen
X-ORIGINAL-URL:https://www.ec-thueringen.de
X-WR-CALDESC:Veranstaltungen für EC Thüringen
REFRESH-INTERVAL;VALUE=DURATION:PT1H
X-Robots-Tag:noindex
X-PUBLISHED-TTL:PT1H
BEGIN:VTIMEZONE
TZID:Europe/Berlin
BEGIN:DAYLIGHT
TZOFFSETFROM:+0100
TZOFFSETTO:+0200
TZNAME:CEST
DTSTART:20250330T010000
END:DAYLIGHT
BEGIN:STANDARD
TZOFFSETFROM:+0200
TZOFFSETTO:+0100
TZNAME:CET
DTSTART:20251026T010000
END:STANDARD
BEGIN:DAYLIGHT
TZOFFSETFROM:+0100
TZOFFSETTO:+0200
TZNAME:CEST
DTSTART:20260329T010000
END:DAYLIGHT
BEGIN:STANDARD
TZOFFSETFROM:+0200
TZOFFSETTO:+0100
TZNAME:CET
DTSTART:20261025T010000
END:STANDARD
BEGIN:DAYLIGHT
TZOFFSETFROM:+0100
TZOFFSETTO:+0200
TZNAME:CEST
DTSTART:20270328T010000
END:DAYLIGHT
BEGIN:STANDARD
TZOFFSETFROM:+0200
TZOFFSETTO:+0100
TZNAME:CET
DTSTART:20271031T010000
END:STANDARD
END:VTIMEZONE
BEGIN:VEVENT
DTSTART;VALUE=DATE:20260828
DTEND;VALUE=DATE:20260831
DTSTAMP:20260422T120421
CREATED:20251126T215157Z
LAST-MODIFIED:20260109T214543Z
UID:9653-1787875200-1788134399@www.ec-thueringen.de
SUMMARY:Evangelisches Jugendfestival
DESCRIPTION:Ein beeindruckendes Kloster\, mehrere Bühnen und Band mit unterschiedlichen Musikstilen\, Andachten\, Workshops\, Aktionen\, Spiele\, ein Gottesdienst und ca. 400 Jugendliche. Der EC ist als Teil vom Bund evangelischer Jugend in Mitteldeutschland (bejm) mittendrin. \nLeitung: Team BEJM \nLeistungen: Vollverpflegung\, Unterbringung in eigenen Zelten\, Programm \nAlter: ab 12 J. \nAnmeldung: festival@ekmd.de\, Tel.: 0391-5346 444 \nTagestickets nur Freitag/Samstag: 25€ \nInfos: Evangelisches Jugendfestival
URL:https://www.ec-thueringen.de/event/evangelisches-jugendfestival/
LOCATION:Kloster Volkenroda\, Amtshof 3\, Körner OT Volkenroda\, Thüringen\, 99998\, Germany
CATEGORIES:Events
ATTACH;FMTTYPE=image/jpeg:https://www.ec-thueringen.de/wp-content/uploads/2025/11/Bildschirmfoto_26-11-2025_22427_www.evangelischesjugendfestival.de_-e1764193908419.jpeg
ORGANIZER;CN="BEJM":MAILTO:bejm-info@ekmd.de
END:VEVENT
END:VCALENDAR