BEGIN:VCALENDAR
VERSION:2.0
PRODID:-//EC Thüringen - ECPv6.15.14//NONSGML v1.0//EN
CALSCALE:GREGORIAN
METHOD:PUBLISH
X-WR-CALNAME:EC Thüringen
X-ORIGINAL-URL:https://www.ec-thueringen.de
X-WR-CALDESC:Veranstaltungen für EC Thüringen
REFRESH-INTERVAL;VALUE=DURATION:PT1H
X-Robots-Tag:noindex
X-PUBLISHED-TTL:PT1H
BEGIN:VTIMEZONE
TZID:Europe/Berlin
BEGIN:DAYLIGHT
TZOFFSETFROM:+0100
TZOFFSETTO:+0200
TZNAME:CEST
DTSTART:20240331T010000
END:DAYLIGHT
BEGIN:STANDARD
TZOFFSETFROM:+0200
TZOFFSETTO:+0100
TZNAME:CET
DTSTART:20241027T010000
END:STANDARD
BEGIN:DAYLIGHT
TZOFFSETFROM:+0100
TZOFFSETTO:+0200
TZNAME:CEST
DTSTART:20250330T010000
END:DAYLIGHT
BEGIN:STANDARD
TZOFFSETFROM:+0200
TZOFFSETTO:+0100
TZNAME:CET
DTSTART:20251026T010000
END:STANDARD
BEGIN:DAYLIGHT
TZOFFSETFROM:+0100
TZOFFSETTO:+0200
TZNAME:CEST
DTSTART:20260329T010000
END:DAYLIGHT
BEGIN:STANDARD
TZOFFSETFROM:+0200
TZOFFSETTO:+0100
TZNAME:CET
DTSTART:20261025T010000
END:STANDARD
END:VTIMEZONE
BEGIN:VEVENT
DTSTART;VALUE=DATE:20250829
DTEND;VALUE=DATE:20250901
DTSTAMP:20260423T155547
CREATED:20241012T003902Z
LAST-MODIFIED:20241120T195240Z
UID:9085-1756425600-1756684799@www.ec-thueringen.de
SUMMARY:Tiefenschärfe
DESCRIPTION:Du willst mal wieder so richtig in einen Bibeltext eintauchen und endlich die Möglichkeit haben all deine Fragen loszuwerden?\nSuper\, denn nicht nur das\, sondern auch gute Gemeinschaft\, Platz für ehrliche Gespräche\, gutes Essen und Zeit für dich erwarten dich in Breitungen. \nWer: ab 18 Jahren\, bis 20.08.2025 mind. 6 Teiln.\nLeistungen: VP\, Programm\, Unterbringung in eigenen Zelten\nLeitung: Thomas Oetzel & Team \nHier geht es zur Anmeldung
URL:https://www.ec-thueringen.de/event/tiefenschaerfe/
LOCATION:LKG Breitungen\, Geschwister-Scholl-Ring 53.\, Breitungen\, Thüringen\, 98597\, Germany
CATEGORIES:Events,Freizeiten,Seminare
ATTACH;FMTTYPE=image/jpeg:https://www.ec-thueringen.de/wp-content/uploads/2024/10/Tiefenschaerfe-1.jpg
END:VEVENT
END:VCALENDAR